BEGIN:VCALENDAR
VERSION:2.0
PRODID:-//Friends of Roundhay Park - ECPv6.15.20//NONSGML v1.0//EN
CALSCALE:GREGORIAN
METHOD:PUBLISH
X-ORIGINAL-URL:https://forp.org
X-WR-CALDESC:Events for Friends of Roundhay Park
REFRESH-INTERVAL;VALUE=DURATION:PT1H
X-Robots-Tag:noindex
X-PUBLISHED-TTL:PT1H
BEGIN:VTIMEZONE
TZID:Europe/London
BEGIN:DAYLIGHT
TZOFFSETFROM:+0000
TZOFFSETTO:+0100
TZNAME:BST
DTSTART:20250330T010000
END:DAYLIGHT
BEGIN:STANDARD
TZOFFSETFROM:+0100
TZOFFSETTO:+0000
TZNAME:GMT
DTSTART:20251026T010000
END:STANDARD
BEGIN:DAYLIGHT
TZOFFSETFROM:+0000
TZOFFSETTO:+0100
TZNAME:BST
DTSTART:20260329T010000
END:DAYLIGHT
BEGIN:STANDARD
TZOFFSETFROM:+0100
TZOFFSETTO:+0000
TZNAME:GMT
DTSTART:20261025T010000
END:STANDARD
BEGIN:DAYLIGHT
TZOFFSETFROM:+0000
TZOFFSETTO:+0100
TZNAME:BST
DTSTART:20270328T010000
END:DAYLIGHT
BEGIN:STANDARD
TZOFFSETFROM:+0100
TZOFFSETTO:+0000
TZNAME:GMT
DTSTART:20271031T010000
END:STANDARD
END:VTIMEZONE
BEGIN:VEVENT
DTSTART;TZID=Europe/London:20260709T100000
DTEND;TZID=Europe/London:20260709T120000
DTSTAMP:20260419T172624
CREATED:20260127T120512Z
LAST-MODIFIED:20260127T120513Z
UID:10001597-1783591200-1783598400@forp.org
SUMMARY:FOREST SCHOOL
DESCRIPTION:The floors\, canopy and woodland noise change weekly\, creating a perfect environment for children to explore in their own leisure\, with their own agenda\, under the watchful guidance of our Level 3 qualified instructor.   \n\n\n\nFor more details\, contact Melody on forestschool@forp.org
URL:https://forp.org/event/forest-school-2/2026-07-09/
LOCATION:Ram Wood\, Roundhay Park\, Leeds\, LS8 1EZ
END:VEVENT
BEGIN:VEVENT
DTSTART;TZID=Europe/London:20260716T100000
DTEND;TZID=Europe/London:20260716T120000
DTSTAMP:20260419T172624
CREATED:20260127T120512Z
LAST-MODIFIED:20260127T120513Z
UID:10001598-1784196000-1784203200@forp.org
SUMMARY:FOREST SCHOOL
DESCRIPTION:The floors\, canopy and woodland noise change weekly\, creating a perfect environment for children to explore in their own leisure\, with their own agenda\, under the watchful guidance of our Level 3 qualified instructor.   \n\n\n\nFor more details\, contact Melody on forestschool@forp.org
URL:https://forp.org/event/forest-school-2/2026-07-16/
LOCATION:Ram Wood\, Roundhay Park\, Leeds\, LS8 1EZ
END:VEVENT
END:VCALENDAR