BEGIN:VCALENDAR
VERSION:2.0
PRODID:-//Friends of Roundhay Park - ECPv6.15.20//NONSGML v1.0//EN
CALSCALE:GREGORIAN
METHOD:PUBLISH
X-WR-CALNAME:Friends of Roundhay Park
X-ORIGINAL-URL:https://forp.org
X-WR-CALDESC:Events for Friends of Roundhay Park
REFRESH-INTERVAL;VALUE=DURATION:PT1H
X-Robots-Tag:noindex
X-PUBLISHED-TTL:PT1H
BEGIN:VTIMEZONE
TZID:Europe/London
BEGIN:DAYLIGHT
TZOFFSETFROM:+0000
TZOFFSETTO:+0100
TZNAME:BST
DTSTART:20250330T010000
END:DAYLIGHT
BEGIN:STANDARD
TZOFFSETFROM:+0100
TZOFFSETTO:+0000
TZNAME:GMT
DTSTART:20251026T010000
END:STANDARD
BEGIN:DAYLIGHT
TZOFFSETFROM:+0000
TZOFFSETTO:+0100
TZNAME:BST
DTSTART:20260329T010000
END:DAYLIGHT
BEGIN:STANDARD
TZOFFSETFROM:+0100
TZOFFSETTO:+0000
TZNAME:GMT
DTSTART:20261025T010000
END:STANDARD
BEGIN:DAYLIGHT
TZOFFSETFROM:+0000
TZOFFSETTO:+0100
TZNAME:BST
DTSTART:20270328T010000
END:DAYLIGHT
BEGIN:STANDARD
TZOFFSETFROM:+0100
TZOFFSETTO:+0000
TZNAME:GMT
DTSTART:20271031T010000
END:STANDARD
END:VTIMEZONE
BEGIN:VEVENT
DTSTART;TZID=Europe/London:20260402T100000
DTEND;TZID=Europe/London:20260402T120000
DTSTAMP:20260419T173101
CREATED:20260127T120512Z
LAST-MODIFIED:20260127T120513Z
UID:10001586-1775124000-1775131200@forp.org
SUMMARY:FOREST SCHOOL
DESCRIPTION:The floors\, canopy and woodland noise change weekly\, creating a perfect environment for children to explore in their own leisure\, with their own agenda\, under the watchful guidance of our Level 3 qualified instructor.   \n\n\n\nFor more details\, contact Melody on forestschool@forp.org
URL:https://forp.org/event/forest-school-2/2026-04-02/
LOCATION:Ram Wood\, Roundhay Park\, Leeds\, LS8 1EZ
END:VEVENT
BEGIN:VEVENT
DTSTART;TZID=Europe/London:20260326T100000
DTEND;TZID=Europe/London:20260326T120000
DTSTAMP:20260419T173101
CREATED:20260127T120512Z
LAST-MODIFIED:20260127T120513Z
UID:10001585-1774519200-1774526400@forp.org
SUMMARY:FOREST SCHOOL
DESCRIPTION:The floors\, canopy and woodland noise change weekly\, creating a perfect environment for children to explore in their own leisure\, with their own agenda\, under the watchful guidance of our Level 3 qualified instructor.   \n\n\n\nFor more details\, contact Melody on forestschool@forp.org
URL:https://forp.org/event/forest-school-2/2026-03-26/
LOCATION:Ram Wood\, Roundhay Park\, Leeds\, LS8 1EZ
END:VEVENT
BEGIN:VEVENT
DTSTART;TZID=Europe/London:20260319T100000
DTEND;TZID=Europe/London:20260319T120000
DTSTAMP:20260419T173101
CREATED:20260127T120512Z
LAST-MODIFIED:20260127T120513Z
UID:10001584-1773914400-1773921600@forp.org
SUMMARY:FOREST SCHOOL
DESCRIPTION:The floors\, canopy and woodland noise change weekly\, creating a perfect environment for children to explore in their own leisure\, with their own agenda\, under the watchful guidance of our Level 3 qualified instructor.   \n\n\n\nFor more details\, contact Melody on forestschool@forp.org
URL:https://forp.org/event/forest-school-2/2026-03-19/
LOCATION:Ram Wood\, Roundhay Park\, Leeds\, LS8 1EZ
END:VEVENT
BEGIN:VEVENT
DTSTART;TZID=Europe/London:20260312T100000
DTEND;TZID=Europe/London:20260312T120000
DTSTAMP:20260419T173101
CREATED:20260127T120512Z
LAST-MODIFIED:20260127T120513Z
UID:10001583-1773309600-1773316800@forp.org
SUMMARY:FOREST SCHOOL
DESCRIPTION:The floors\, canopy and woodland noise change weekly\, creating a perfect environment for children to explore in their own leisure\, with their own agenda\, under the watchful guidance of our Level 3 qualified instructor.   \n\n\n\nFor more details\, contact Melody on forestschool@forp.org
URL:https://forp.org/event/forest-school-2/2026-03-12/
LOCATION:Ram Wood\, Roundhay Park\, Leeds\, LS8 1EZ
END:VEVENT
BEGIN:VEVENT
DTSTART;TZID=Europe/London:20260305T100000
DTEND;TZID=Europe/London:20260305T120000
DTSTAMP:20260419T173101
CREATED:20260127T120512Z
LAST-MODIFIED:20260127T120513Z
UID:10001582-1772704800-1772712000@forp.org
SUMMARY:FOREST SCHOOL
DESCRIPTION:The floors\, canopy and woodland noise change weekly\, creating a perfect environment for children to explore in their own leisure\, with their own agenda\, under the watchful guidance of our Level 3 qualified instructor.   \n\n\n\nFor more details\, contact Melody on forestschool@forp.org
URL:https://forp.org/event/forest-school-2/2026-03-05/
LOCATION:Ram Wood\, Roundhay Park\, Leeds\, LS8 1EZ
END:VEVENT
BEGIN:VEVENT
DTSTART;TZID=Europe/London:20260226T100000
DTEND;TZID=Europe/London:20260226T120000
DTSTAMP:20260419T173101
CREATED:20260127T120512Z
LAST-MODIFIED:20260127T120513Z
UID:10001581-1772100000-1772107200@forp.org
SUMMARY:FOREST SCHOOL
DESCRIPTION:The floors\, canopy and woodland noise change weekly\, creating a perfect environment for children to explore in their own leisure\, with their own agenda\, under the watchful guidance of our Level 3 qualified instructor.   \n\n\n\nFor more details\, contact Melody on forestschool@forp.org
URL:https://forp.org/event/forest-school-2/2026-02-26/
LOCATION:Ram Wood\, Roundhay Park\, Leeds\, LS8 1EZ
END:VEVENT
BEGIN:VEVENT
DTSTART;TZID=Europe/London:20260212T100000
DTEND;TZID=Europe/London:20260212T120000
DTSTAMP:20260419T173101
CREATED:20260127T115352Z
LAST-MODIFIED:20260127T115517Z
UID:10001580-1770890400-1770897600@forp.org
SUMMARY:FOREST SCHOOL
DESCRIPTION:The floors\, canopy and woodland noise change weekly\, creating a perfect environment for children to explore in their own leisure\, with their own agenda\, under the watchful guidance of our Level 3 qualified instructor.   \n\n\n\nFor more details\, contact Melody on forestschool@forp.org
URL:https://forp.org/event/forest-school/2026-02-12/
LOCATION:Ram Wood\, Roundhay Park\, Leeds\, LS8 1EZ
END:VEVENT
BEGIN:VEVENT
DTSTART;TZID=Europe/London:20260205T100000
DTEND;TZID=Europe/London:20260205T120000
DTSTAMP:20260419T173101
CREATED:20260127T115352Z
LAST-MODIFIED:20260127T115517Z
UID:10001579-1770285600-1770292800@forp.org
SUMMARY:FOREST SCHOOL
DESCRIPTION:The floors\, canopy and woodland noise change weekly\, creating a perfect environment for children to explore in their own leisure\, with their own agenda\, under the watchful guidance of our Level 3 qualified instructor.   \n\n\n\nFor more details\, contact Melody on forestschool@forp.org
URL:https://forp.org/event/forest-school/2026-02-05/
LOCATION:Ram Wood\, Roundhay Park\, Leeds\, LS8 1EZ
END:VEVENT
BEGIN:VEVENT
DTSTART;TZID=Europe/London:20260129T100000
DTEND;TZID=Europe/London:20260129T120000
DTSTAMP:20260419T173101
CREATED:20260127T115352Z
LAST-MODIFIED:20260127T115517Z
UID:10001578-1769680800-1769688000@forp.org
SUMMARY:FOREST SCHOOL
DESCRIPTION:The floors\, canopy and woodland noise change weekly\, creating a perfect environment for children to explore in their own leisure\, with their own agenda\, under the watchful guidance of our Level 3 qualified instructor.   \n\n\n\nFor more details\, contact Melody on forestschool@forp.org
URL:https://forp.org/event/forest-school/2026-01-29/
LOCATION:Ram Wood\, Roundhay Park\, Leeds\, LS8 1EZ
END:VEVENT
BEGIN:VEVENT
DTSTART;TZID=Europe/London:20260122T100000
DTEND;TZID=Europe/London:20260122T120000
DTSTAMP:20260419T173101
CREATED:20260127T115352Z
LAST-MODIFIED:20260127T115517Z
UID:10001577-1769076000-1769083200@forp.org
SUMMARY:FOREST SCHOOL
DESCRIPTION:The floors\, canopy and woodland noise change weekly\, creating a perfect environment for children to explore in their own leisure\, with their own agenda\, under the watchful guidance of our Level 3 qualified instructor.   \n\n\n\nFor more details\, contact Melody on forestschool@forp.org
URL:https://forp.org/event/forest-school/2026-01-22/
LOCATION:Ram Wood\, Roundhay Park\, Leeds\, LS8 1EZ
END:VEVENT
BEGIN:VEVENT
DTSTART;TZID=Europe/London:20260115T100000
DTEND;TZID=Europe/London:20260115T120000
DTSTAMP:20260419T173101
CREATED:20260127T115352Z
LAST-MODIFIED:20260127T115517Z
UID:10001576-1768471200-1768478400@forp.org
SUMMARY:FOREST SCHOOL
DESCRIPTION:The floors\, canopy and woodland noise change weekly\, creating a perfect environment for children to explore in their own leisure\, with their own agenda\, under the watchful guidance of our Level 3 qualified instructor.   \n\n\n\nFor more details\, contact Melody on forestschool@forp.org
URL:https://forp.org/event/forest-school/2026-01-15/
LOCATION:Ram Wood\, Roundhay Park\, Leeds\, LS8 1EZ
END:VEVENT
BEGIN:VEVENT
DTSTART;TZID=Europe/London:20260108T100000
DTEND;TZID=Europe/London:20260108T120000
DTSTAMP:20260419T173101
CREATED:20260127T115352Z
LAST-MODIFIED:20260127T115517Z
UID:10001575-1767866400-1767873600@forp.org
SUMMARY:FOREST SCHOOL
DESCRIPTION:The floors\, canopy and woodland noise change weekly\, creating a perfect environment for children to explore in their own leisure\, with their own agenda\, under the watchful guidance of our Level 3 qualified instructor.   \n\n\n\nFor more details\, contact Melody on forestschool@forp.org
URL:https://forp.org/event/forest-school/2026-01-08/
LOCATION:Ram Wood\, Roundhay Park\, Leeds\, LS8 1EZ
END:VEVENT
END:VCALENDAR