BEGIN:VCALENDAR
VERSION:2.0
PRODID:-//Friends of Roundhay Park - ECPv6.15.20//NONSGML v1.0//EN
CALSCALE:GREGORIAN
METHOD:PUBLISH
X-WR-CALNAME:Friends of Roundhay Park
X-ORIGINAL-URL:https://forp.org
X-WR-CALDESC:Events for Friends of Roundhay Park
REFRESH-INTERVAL;VALUE=DURATION:PT1H
X-Robots-Tag:noindex
X-PUBLISHED-TTL:PT1H
BEGIN:VTIMEZONE
TZID:Europe/London
BEGIN:DAYLIGHT
TZOFFSETFROM:+0000
TZOFFSETTO:+0100
TZNAME:BST
DTSTART:20250330T010000
END:DAYLIGHT
BEGIN:STANDARD
TZOFFSETFROM:+0100
TZOFFSETTO:+0000
TZNAME:GMT
DTSTART:20251026T010000
END:STANDARD
BEGIN:DAYLIGHT
TZOFFSETFROM:+0000
TZOFFSETTO:+0100
TZNAME:BST
DTSTART:20260329T010000
END:DAYLIGHT
BEGIN:STANDARD
TZOFFSETFROM:+0100
TZOFFSETTO:+0000
TZNAME:GMT
DTSTART:20261025T010000
END:STANDARD
BEGIN:DAYLIGHT
TZOFFSETFROM:+0000
TZOFFSETTO:+0100
TZNAME:BST
DTSTART:20270328T010000
END:DAYLIGHT
BEGIN:STANDARD
TZOFFSETFROM:+0100
TZOFFSETTO:+0000
TZNAME:GMT
DTSTART:20271031T010000
END:STANDARD
END:VTIMEZONE
BEGIN:VEVENT
DTSTART;TZID=Europe/London:20261102T100000
DTEND;TZID=Europe/London:20261102T120000
DTSTAMP:20260423T115619
CREATED:20260127T121257Z
LAST-MODIFIED:20260127T121631Z
UID:10001609-1793613600-1793620800@forp.org
SUMMARY:LITTER PICK
DESCRIPTION:We hold a regular litter picking session on the first Monday of every month\, starting at 10:00am sharp. After a productive morning\, we return for tea\, coffee and biscuits at around 11:30am. \n\n\n\nWe meet at the Carriage House car park\, directly behind The Roundhay Fox pub. Volunteers are advised to wear sturdy shoes\, and all litter-picking equipment is provided. A safety sheet is also sent to all registered volunteers. \n\n\n\nWhile we aim to stick to the first Monday of the month\, occasional changes may occur. Many of our dedicated volunteers also collect litter in their own time\, making a huge difference across the park. \n\n\n\nEveryone is welcome—come along and help keep Roundhay Park beautiful.   \n\n\n\nFor more information contact: litter@forp.org
URL:https://forp.org/event/litter-pick/2026-11-02/
LOCATION:Carriage House\, Mansion Lane\, Leeds
END:VEVENT
BEGIN:VEVENT
DTSTART;TZID=Europe/London:20261207T100000
DTEND;TZID=Europe/London:20261207T120000
DTSTAMP:20260423T115619
CREATED:20260127T121257Z
LAST-MODIFIED:20260127T121631Z
UID:10001610-1796637600-1796644800@forp.org
SUMMARY:LITTER PICK
DESCRIPTION:We hold a regular litter picking session on the first Monday of every month\, starting at 10:00am sharp. After a productive morning\, we return for tea\, coffee and biscuits at around 11:30am. \n\n\n\nWe meet at the Carriage House car park\, directly behind The Roundhay Fox pub. Volunteers are advised to wear sturdy shoes\, and all litter-picking equipment is provided. A safety sheet is also sent to all registered volunteers. \n\n\n\nWhile we aim to stick to the first Monday of the month\, occasional changes may occur. Many of our dedicated volunteers also collect litter in their own time\, making a huge difference across the park. \n\n\n\nEveryone is welcome—come along and help keep Roundhay Park beautiful.   \n\n\n\nFor more information contact: litter@forp.org
URL:https://forp.org/event/litter-pick/2026-12-07/
LOCATION:Carriage House\, Mansion Lane\, Leeds
END:VEVENT
BEGIN:VEVENT
DTSTART;TZID=Europe/London:20261208T190000
DTEND;TZID=Europe/London:20261208T210000
DTSTAMP:20260423T115619
CREATED:20251110T181958Z
LAST-MODIFIED:20251110T182000Z
UID:10001552-1796756400-1796763600@forp.org
SUMMARY:TRUSTEE & COMMITTEE MEETING
DESCRIPTION:
URL:https://forp.org/event/trustee-committee-meeting-5/
LOCATION:Ann Macguire Education Centre\, Mansion Lane\, Leeds\, LS8 2HH
CATEGORIES:Member Meetings
END:VEVENT
END:VCALENDAR